Package: scp Version: 1.17.0 Command: /home/biocbuild/bbs-3.21-bioc/R/bin/R CMD INSTALL scp StartedAt: 2025-02-20 15:46:57 -0500 (Thu, 20 Feb 2025) EndedAt: 2025-02-20 15:46:58 -0500 (Thu, 20 Feb 2025) EllapsedTime: 1.0 seconds RetCode: 1 Status: ERROR