############################################################################## ############################################################################## ### ### Running command: ### ### /home/biocbuild/bbs-3.21-bioc/R/bin/R CMD INSTALL scp ### ############################################################################## ############################################################################## * installing to library ‘/home/biocbuild/bbs-3.21-bioc/R/site-library’ ERROR: dependency ‘IHW’ is not available for package ‘scp’ Perhaps try a variation of: install.packages('IHW') * removing ‘/home/biocbuild/bbs-3.21-bioc/R/site-library/scp’