Package: scp Version: 1.17.0 Command: /home/biocbuild/bbs-3.21-bioc/R/bin/R CMD check --install=check:scp.install-out.txt --library=/home/biocbuild/bbs-3.21-bioc/R/site-library --timings scp_1.17.0.tar.gz StartedAt: 2025-02-20 02:15:48 -0500 (Thu, 20 Feb 2025) EndedAt: 2025-02-20 02:27:17 -0500 (Thu, 20 Feb 2025) EllapsedTime: 688.9 seconds RetCode: 0 Status: OK CheckDir: scp.Rcheck Warnings: 0