Package: scp Version: 1.17.0 Command: /Library/Frameworks/R.framework/Resources/bin/R CMD check --install=check:scp.install-out.txt --library=/Library/Frameworks/R.framework/Resources/library --no-vignettes --timings scp_1.17.0.tar.gz StartedAt: 2025-02-20 23:06:49 -0500 (Thu, 20 Feb 2025) EndedAt: 2025-02-20 23:14:46 -0500 (Thu, 20 Feb 2025) EllapsedTime: 476.8 seconds RetCode: 0 Status: OK CheckDir: scp.Rcheck Warnings: 0