Package: scp Version: 1.17.0 Command: /Library/Frameworks/R.framework/Resources/bin/R CMD build --keep-empty-dirs --no-resave-data scp StartedAt: 2025-02-20 18:10:42 -0500 (Thu, 20 Feb 2025) EndedAt: 2025-02-20 18:15:40 -0500 (Thu, 20 Feb 2025) EllapsedTime: 297.9 seconds RetCode: 0 Status: OK PackageFile: scp_1.17.0.tar.gz PackageFileSize: 8.848 MiB