Package: scp Version: 1.17.0 Command: /home/biocbuild/R/R/bin/R CMD build --keep-empty-dirs --no-resave-data scp StartedAt: 2025-01-29 02:08:44 -0000 (Wed, 29 Jan 2025) EndedAt: 2025-01-29 02:14:43 -0000 (Wed, 29 Jan 2025) EllapsedTime: 359.2 seconds RetCode: 0 Status: OK PackageFile: scp_1.17.0.tar.gz PackageFileSize: 7.323 MiB