Package: scp Version: 1.17.0 Command: /Library/Frameworks/R.framework/Resources/bin/R CMD INSTALL scp StartedAt: 2025-02-20 15:16:19 -0500 (Thu, 20 Feb 2025) EndedAt: 2025-02-20 15:16:32 -0500 (Thu, 20 Feb 2025) EllapsedTime: 12.3 seconds RetCode: 0 Status: OK