Package: scoup Version: 1.1.4 Command: /home/biocbuild/bbs-3.21-bioc/R/bin/R CMD INSTALL scoup StartedAt: 2025-02-19 15:15:03 -0500 (Wed, 19 Feb 2025) EndedAt: 2025-02-19 15:15:16 -0500 (Wed, 19 Feb 2025) EllapsedTime: 13.1 seconds RetCode: 0 Status: OK