Package: scone Version: 1.31.0 Command: E:\biocbuild\bbs-3.21-bioc\R\bin\R.exe CMD INSTALL scone StartedAt: 2025-02-17 16:48:59 -0500 (Mon, 17 Feb 2025) EndedAt: 2025-02-17 16:50:12 -0500 (Mon, 17 Feb 2025) EllapsedTime: 72.8 seconds RetCode: 0 Status: OK