Package: scone Version: 1.31.0 Command: E:\biocbuild\bbs-3.21-bioc\R\bin\R.exe CMD check --no-multiarch --install=check:scone.install-out.txt --library=E:\biocbuild\bbs-3.21-bioc\R\library --no-vignettes --timings scone_1.31.0.tar.gz StartedAt: 2025-02-03 04:59:48 -0500 (Mon, 03 Feb 2025) EndedAt: 2025-02-03 05:12:00 -0500 (Mon, 03 Feb 2025) EllapsedTime: 732.0 seconds RetCode: 0 Status: OK CheckDir: scone.Rcheck Warnings: 0