Package: scone Version: 1.31.0 Command: chmod a+r scone -R && E:\biocbuild\bbs-3.21-bioc\R\bin\R.exe CMD build --keep-empty-dirs --no-resave-data scone StartedAt: 2025-02-17 21:21:13 -0500 (Mon, 17 Feb 2025) EndedAt: 2025-02-17 21:25:21 -0500 (Mon, 17 Feb 2025) EllapsedTime: 248.0 seconds RetCode: 1 Status: ERROR PackageFile: None PackageFileSize: NA