Package: scone Version: 1.31.0 Command: /Library/Frameworks/R.framework/Resources/bin/R CMD INSTALL scone StartedAt: 2025-02-17 15:31:01 -0500 (Mon, 17 Feb 2025) EndedAt: 2025-02-17 15:32:10 -0500 (Mon, 17 Feb 2025) EllapsedTime: 69.4 seconds RetCode: 0 Status: OK