Package: scone Version: 1.31.0 Command: /Library/Frameworks/R.framework/Resources/bin/R CMD build --keep-empty-dirs --no-resave-data scone StartedAt: 2025-02-17 18:08:47 -0500 (Mon, 17 Feb 2025) EndedAt: 2025-02-17 18:11:44 -0500 (Mon, 17 Feb 2025) EllapsedTime: 177.1 seconds RetCode: 1 Status: ERROR PackageFile: None PackageFileSize: NA