Package: scone Version: 1.31.0 Command: rm -rf scone.buildbin-libdir && mkdir scone.buildbin-libdir && /Users/biocbuild/BBS/utils/build-universal.sh scone_1.31.0.tar.gz /Library/Frameworks/R.framework/Resources/bin/R scone.buildbin-libdir StartedAt: 2025-02-03 00:44:08 -0500 (Mon, 03 Feb 2025) EndedAt: 2025-02-03 00:45:21 -0500 (Mon, 03 Feb 2025) EllapsedTime: 72.8 seconds RetCode: 0 Status: OK PackageFile: scone_1.31.0.tgz PackageFileSize: 2.076 MiB