Package: scone Version: 1.31.0 Command: /home/biocbuild/R/R/bin/R CMD check --install=check:scone.install-out.txt --library=/home/biocbuild/R/R/site-library --no-vignettes --timings scone_1.31.0.tar.gz StartedAt: 2025-01-28 15:03:26 -0000 (Tue, 28 Jan 2025) EndedAt: 2025-01-28 15:17:08 -0000 (Tue, 28 Jan 2025) EllapsedTime: 821.8 seconds RetCode: 0 Status: WARNINGS CheckDir: scone.Rcheck Warnings: 5