Package: scone Version: 1.31.0 Command: /home/biocbuild/R/R/bin/R CMD build --keep-empty-dirs --no-resave-data scone StartedAt: 2025-01-29 02:07:56 -0000 (Wed, 29 Jan 2025) EndedAt: 2025-01-29 02:11:29 -0000 (Wed, 29 Jan 2025) EllapsedTime: 213.2 seconds RetCode: 0 Status: OK PackageFile: scone_1.31.0.tar.gz PackageFileSize: 1.05 MiB