Package: scmap Version: 1.29.0 Command: rm -rf scmap.buildbin-libdir && mkdir scmap.buildbin-libdir && /Users/biocbuild/BBS/utils/build-universal.sh scmap_1.29.0.tar.gz /Library/Frameworks/R.framework/Resources/bin/R scmap.buildbin-libdir StartedAt: 2025-02-21 00:52:04 -0500 (Fri, 21 Feb 2025) EndedAt: 2025-02-21 00:52:57 -0500 (Fri, 21 Feb 2025) EllapsedTime: 53.2 seconds RetCode: 0 Status: OK PackageFile: scmap_1.29.0.tgz PackageFileSize: 3.37 MiB