Package: scmap Version: 1.29.0 Command: /Library/Frameworks/R.framework/Resources/bin/R CMD build --keep-empty-dirs --no-resave-data scmap StartedAt: 2025-02-20 17:31:47 -0500 (Thu, 20 Feb 2025) EndedAt: 2025-02-20 17:32:08 -0500 (Thu, 20 Feb 2025) EllapsedTime: 21.2 seconds RetCode: 0 Status: OK PackageFile: scmap_1.29.0.tar.gz PackageFileSize: 2.252 MiB