Package: scifer Version: 1.9.0 Command: /home/biocbuild/bbs-3.21-bioc/R/bin/R CMD build --keep-empty-dirs --no-resave-data scifer StartedAt: 2025-02-21 19:30:36 -0500 (Fri, 21 Feb 2025) EndedAt: 2025-02-21 19:32:25 -0500 (Fri, 21 Feb 2025) EllapsedTime: 109.1 seconds RetCode: 0 Status: OK PackageFile: scifer_1.9.0.tar.gz PackageFileSize: 1.503 MiB