Package: scifer Version: 1.9.0 Command: /Library/Frameworks/R.framework/Resources/bin/R CMD check --install=check:scifer.install-out.txt --library=/Library/Frameworks/R.framework/Resources/library --no-vignettes --timings scifer_1.9.0.tar.gz StartedAt: 2025-02-20 23:04:04 -0500 (Thu, 20 Feb 2025) EndedAt: 2025-02-20 23:12:17 -0500 (Thu, 20 Feb 2025) EllapsedTime: 492.6 seconds RetCode: 0 Status: OK CheckDir: scifer.Rcheck Warnings: 0