Package: scifer Version: 1.9.0 Command: /Library/Frameworks/R.framework/Resources/bin/R CMD build --keep-empty-dirs --no-resave-data scifer StartedAt: 2025-02-20 18:08:59 -0500 (Thu, 20 Feb 2025) EndedAt: 2025-02-20 18:11:14 -0500 (Thu, 20 Feb 2025) EllapsedTime: 134.3 seconds RetCode: 0 Status: OK PackageFile: scifer_1.9.0.tar.gz PackageFileSize: 1.525 MiB