Package: scifer Version: 1.9.0 Command: rm -rf scifer.buildbin-libdir && mkdir scifer.buildbin-libdir && /Users/biocbuild/BBS/utils/build-universal.sh scifer_1.9.0.tar.gz /Library/Frameworks/R.framework/Resources/bin/R scifer.buildbin-libdir StartedAt: 2025-02-20 22:34:24 -0500 (Thu, 20 Feb 2025) EndedAt: 2025-02-20 22:34:33 -0500 (Thu, 20 Feb 2025) EllapsedTime: 8.2 seconds RetCode: 0 Status: OK PackageFile: scifer_1.9.0.tgz PackageFileSize: 1.559 MiB