Package: scider Version: 1.5.0 Command: /home/biocbuild/bbs-3.21-bioc/R/bin/R CMD check --install=check:scider.install-out.txt --library=/home/biocbuild/bbs-3.21-bioc/R/site-library --timings scider_1.5.0.tar.gz StartedAt: 2025-02-20 02:12:30 -0500 (Thu, 20 Feb 2025) EndedAt: 2025-02-20 02:19:28 -0500 (Thu, 20 Feb 2025) EllapsedTime: 417.5 seconds RetCode: 0 Status: OK CheckDir: scider.Rcheck Warnings: 0