Package: scds Version: 1.23.0 Command: chmod a+r scds -R && E:\biocbuild\bbs-3.21-bioc\R\bin\R.exe CMD build --keep-empty-dirs --no-resave-data scds StartedAt: 2025-02-20 21:33:03 -0500 (Thu, 20 Feb 2025) EndedAt: 2025-02-20 21:34:37 -0500 (Thu, 20 Feb 2025) EllapsedTime: 94.0 seconds RetCode: 0 Status: OK PackageFile: scds_1.23.0.tar.gz PackageFileSize: 1.068 MiB