Package: scds Version: 1.23.0 Command: /home/biocbuild/bbs-3.21-bioc/R/bin/R CMD check --install=check:scds.install-out.txt --library=/home/biocbuild/bbs-3.21-bioc/R/site-library --timings scds_1.23.0.tar.gz StartedAt: 2025-02-21 01:33:44 -0500 (Fri, 21 Feb 2025) EndedAt: 2025-02-21 01:37:41 -0500 (Fri, 21 Feb 2025) EllapsedTime: 237.2 seconds RetCode: 0 Status: OK CheckDir: scds.Rcheck Warnings: 0