Package: scds Version: 1.23.0 Command: /home/biocbuild/bbs-3.21-bioc/R/bin/R CMD build --keep-empty-dirs --no-resave-data scds StartedAt: 2025-02-20 19:08:13 -0500 (Thu, 20 Feb 2025) EndedAt: 2025-02-20 19:09:21 -0500 (Thu, 20 Feb 2025) EllapsedTime: 68.1 seconds RetCode: 0 Status: OK PackageFile: scds_1.23.0.tar.gz PackageFileSize: 1.406 MiB