Package: scds Version: 1.23.0 Command: /Library/Frameworks/R.framework/Resources/bin/R CMD build --keep-empty-dirs --no-resave-data scds StartedAt: 2025-02-20 18:08:13 -0500 (Thu, 20 Feb 2025) EndedAt: 2025-02-20 18:09:20 -0500 (Thu, 20 Feb 2025) EllapsedTime: 67.4 seconds RetCode: 0 Status: OK PackageFile: scds_1.23.0.tar.gz PackageFileSize: 1.417 MiB