Package: scds Version: 1.23.0 Command: rm -rf scds.buildbin-libdir && mkdir scds.buildbin-libdir && /Users/biocbuild/BBS/utils/build-universal.sh scds_1.23.0.tar.gz /Library/Frameworks/R.framework/Resources/bin/R scds.buildbin-libdir StartedAt: 2025-02-21 00:51:46 -0500 (Fri, 21 Feb 2025) EndedAt: 2025-02-21 00:52:23 -0500 (Fri, 21 Feb 2025) EllapsedTime: 36.8 seconds RetCode: 0 Status: OK PackageFile: scds_1.23.0.tgz PackageFileSize: 1.447 MiB