Package: scds Version: 1.23.0 Command: /home/biocbuild/R/R/bin/R CMD INSTALL scds StartedAt: 2025-01-29 19:43:33 -0000 (Wed, 29 Jan 2025) EndedAt: 2025-01-29 19:44:06 -0000 (Wed, 29 Jan 2025) EllapsedTime: 33.7 seconds RetCode: 0 Status: OK