Package: scds Version: 1.23.0 Command: /home/biocbuild/R/R/bin/R CMD build --keep-empty-dirs --no-resave-data scds StartedAt: 2025-01-29 02:03:57 -0000 (Wed, 29 Jan 2025) EndedAt: 2025-01-29 02:05:40 -0000 (Wed, 29 Jan 2025) EllapsedTime: 103.2 seconds RetCode: 0 Status: OK PackageFile: scds_1.23.0.tar.gz PackageFileSize: 1.13 MiB