Package: scde Version: 2.35.0 Command: /Library/Frameworks/R.framework/Resources/bin/R CMD check --install=check:scde.install-out.txt --library=/Library/Frameworks/R.framework/Resources/library --no-vignettes --timings scde_2.35.0.tar.gz StartedAt: 2025-02-20 21:14:22 -0500 (Thu, 20 Feb 2025) EndedAt: 2025-02-20 21:15:09 -0500 (Thu, 20 Feb 2025) EllapsedTime: 46.5 seconds RetCode: 0 Status: WARNINGS CheckDir: scde.Rcheck Warnings: 3