Package: sccomp Version: 1.99.10 Command: chmod a+r sccomp -R && E:\biocbuild\bbs-3.21-bioc\R\bin\R.exe CMD build --keep-empty-dirs --no-resave-data sccomp StartedAt: 2025-02-20 21:32:03 -0500 (Thu, 20 Feb 2025) EndedAt: 2025-02-20 21:33:16 -0500 (Thu, 20 Feb 2025) EllapsedTime: 73.7 seconds RetCode: 0 Status: OK PackageFile: sccomp_1.99.10.tar.gz PackageFileSize: 3.062 MiB