Package: sccomp Version: 1.99.10 Command: /home/biocbuild/bbs-3.21-bioc/R/bin/R CMD INSTALL sccomp StartedAt: 2025-02-20 15:28:06 -0500 (Thu, 20 Feb 2025) EndedAt: 2025-02-20 15:28:37 -0500 (Thu, 20 Feb 2025) EllapsedTime: 30.9 seconds RetCode: 0 Status: OK