Package: sccomp Version: 1.99.10 Command: /home/biocbuild/bbs-3.21-bioc/R/bin/R CMD build --keep-empty-dirs --no-resave-data sccomp StartedAt: 2025-02-20 19:07:12 -0500 (Thu, 20 Feb 2025) EndedAt: 2025-02-20 19:08:01 -0500 (Thu, 20 Feb 2025) EllapsedTime: 49.0 seconds RetCode: 0 Status: OK PackageFile: sccomp_1.99.10.tar.gz PackageFileSize: 3.063 MiB