############################################################################## ############################################################################## ### ### Running command: ### ### /home/biocbuild/bbs-3.21-bioc/R/bin/R CMD build --keep-empty-dirs --no-resave-data sccomp ### ############################################################################## ############################################################################## * checking for file ‘sccomp/DESCRIPTION’ ... OK * preparing ‘sccomp’: * checking DESCRIPTION meta-information ... OK * running ‘cleanup’ * installing the package to build vignettes * creating vignettes ... OK * running ‘cleanup’ * checking for LF line-endings in source and make files and shell scripts * checking for empty or unneeded directories NB: this package now depends on R (>= 4.3.0) WARNING: Added dependency on R >= 4.3.0 because package code uses the pipe placeholder at the head of a chain of extractions syntax added in R 4.3.0. File(s) using such syntax: ‘methods.R’ ‘utilities.R’ * building ‘sccomp_1.99.10.tar.gz’