Package: sccomp Version: 1.99.10 Command: /Library/Frameworks/R.framework/Resources/bin/R CMD INSTALL sccomp StartedAt: 2025-02-20 15:11:27 -0500 (Thu, 20 Feb 2025) EndedAt: 2025-02-20 15:12:07 -0500 (Thu, 20 Feb 2025) EllapsedTime: 39.9 seconds RetCode: 0 Status: OK