Package: scatterHatch Version: 1.13.0 Command: E:\biocbuild\bbs-3.21-bioc\R\bin\R.exe CMD check --no-multiarch --install=check:scatterHatch.install-out.txt --library=E:\biocbuild\bbs-3.21-bioc\R\library --no-vignettes --timings scatterHatch_1.13.0.tar.gz StartedAt: 2025-02-19 04:55:26 -0500 (Wed, 19 Feb 2025) EndedAt: 2025-02-19 04:57:14 -0500 (Wed, 19 Feb 2025) EllapsedTime: 107.6 seconds RetCode: 0 Status: OK CheckDir: scatterHatch.Rcheck Warnings: 0