Package: scatterHatch Version: 1.13.0 Command: /Library/Frameworks/R.framework/Resources/bin/R CMD INSTALL scatterHatch StartedAt: 2025-02-18 15:08:49 -0500 (Tue, 18 Feb 2025) EndedAt: 2025-02-18 15:09:01 -0500 (Tue, 18 Feb 2025) EllapsedTime: 11.3 seconds RetCode: 0 Status: OK