Package: scater Version: 1.35.1 Command: /home/biocbuild/bbs-3.21-bioc/R/bin/R CMD INSTALL scater StartedAt: 2025-02-20 16:07:31 -0500 (Thu, 20 Feb 2025) EndedAt: 2025-02-20 16:07:59 -0500 (Thu, 20 Feb 2025) EllapsedTime: 27.8 seconds RetCode: 0 Status: OK