Package: scater Version: 1.35.1 Command: /home/biocbuild/bbs-3.21-bioc/R/bin/R CMD build --keep-empty-dirs --no-resave-data scater StartedAt: 2025-02-20 19:06:11 -0500 (Thu, 20 Feb 2025) EndedAt: 2025-02-20 19:08:56 -0500 (Thu, 20 Feb 2025) EllapsedTime: 165.2 seconds RetCode: 0 Status: OK PackageFile: scater_1.35.1.tar.gz PackageFileSize: 4.421 MiB