Package: scater Version: 1.35.1 Command: /Library/Frameworks/R.framework/Resources/bin/R CMD INSTALL scater StartedAt: 2025-02-19 15:38:25 -0500 (Wed, 19 Feb 2025) EndedAt: 2025-02-19 15:39:04 -0500 (Wed, 19 Feb 2025) EllapsedTime: 39.6 seconds RetCode: 0 Status: OK