Package: scanMiR Version: 1.13.0 Command: /Library/Frameworks/R.framework/Resources/bin/R CMD check --install=check:scanMiR.install-out.txt --library=/Library/Frameworks/R.framework/Resources/library --no-vignettes --timings scanMiR_1.13.0.tar.gz StartedAt: 2025-02-17 22:54:30 -0500 (Mon, 17 Feb 2025) EndedAt: 2025-02-17 22:56:39 -0500 (Mon, 17 Feb 2025) EllapsedTime: 129.7 seconds RetCode: 0 Status: OK CheckDir: scanMiR.Rcheck Warnings: 0