Package: scanMiR Version: 1.13.0 Command: /Library/Frameworks/R.framework/Resources/bin/R CMD check --install=check:scanMiR.install-out.txt --library=/Library/Frameworks/R.framework/Resources/library --no-vignettes --timings scanMiR_1.13.0.tar.gz StartedAt: 2025-02-18 21:16:00 -0500 (Tue, 18 Feb 2025) EndedAt: 2025-02-18 21:16:44 -0500 (Tue, 18 Feb 2025) EllapsedTime: 43.5 seconds RetCode: 0 Status: OK CheckDir: scanMiR.Rcheck Warnings: 0