Package: scTreeViz Version: 1.13.0 Command: rm -rf scTreeViz.buildbin-libdir && mkdir scTreeViz.buildbin-libdir && E:\biocbuild\bbs-3.21-bioc\R\bin\R.exe CMD INSTALL --build --library=scTreeViz.buildbin-libdir scTreeViz_1.13.0.tar.gz StartedAt: 2025-02-21 09:04:05 -0500 (Fri, 21 Feb 2025) EndedAt: 2025-02-21 09:05:56 -0500 (Fri, 21 Feb 2025) EllapsedTime: 111.2 seconds RetCode: 0 Status: OK PackageFile: scTreeViz_1.13.0.zip PackageFileSize: 2.542 MiB