Package: scTreeViz Version: 1.14.1 Command: /Library/Frameworks/R.framework/Resources/bin/R CMD INSTALL scTreeViz StartedAt: 2025-10-13 18:16:24 -0400 (Mon, 13 Oct 2025) EndedAt: 2025-10-13 18:17:47 -0400 (Mon, 13 Oct 2025) EllapsedTime: 82.1 seconds RetCode: 0 Status: OK