Package: scTensor Version: 2.17.0 Command: /home/biocbuild/bbs-3.21-bioc/R/bin/R CMD INSTALL scTensor StartedAt: 2025-02-20 16:00:43 -0500 (Thu, 20 Feb 2025) EndedAt: 2025-02-20 16:00:44 -0500 (Thu, 20 Feb 2025) EllapsedTime: 1.2 seconds RetCode: 1 Status: ERROR