############################################################################## ############################################################################## ### ### Running command: ### ### /home/biocbuild/bbs-3.21-bioc/R/bin/R CMD build --keep-empty-dirs --no-resave-data scTensor ### ############################################################################## ############################################################################## * checking for file ‘scTensor/DESCRIPTION’ ... OK * preparing ‘scTensor’: * checking DESCRIPTION meta-information ... OK * installing the package to process help pages ----------------------------------- ERROR: dependency ‘GOstats’ is not available for package ‘scTensor’ Perhaps try a variation of: install.packages('GOstats') * removing ‘/tmp/Rtmp8g96Gj/Rinst2257b03a887604/scTensor’ ----------------------------------- ERROR: package installation failed