Package: scTHI Version: 1.19.0 Command: /home/biocbuild/bbs-3.21-bioc/R/bin/R CMD INSTALL scTHI StartedAt: 2025-02-20 15:06:22 -0500 (Thu, 20 Feb 2025) EndedAt: 2025-02-20 15:06:24 -0500 (Thu, 20 Feb 2025) EllapsedTime: 2.5 seconds RetCode: 0 Status: OK