Package: scTHI Version: 1.19.0 Command: rm -rf scTHI.buildbin-libdir && mkdir scTHI.buildbin-libdir && /Users/biocbuild/BBS/utils/build-universal.sh scTHI_1.19.0.tar.gz /Library/Frameworks/R.framework/Resources/bin/R scTHI.buildbin-libdir StartedAt: 2025-02-20 22:34:56 -0500 (Thu, 20 Feb 2025) EndedAt: 2025-02-20 22:34:58 -0500 (Thu, 20 Feb 2025) EllapsedTime: 2.0 seconds RetCode: 0 Status: OK PackageFile: scTHI_1.19.0.tgz PackageFileSize: 948.1 KiB