Package: scTGIF Version: 1.21.0 Command: E:\biocbuild\bbs-3.21-bioc\R\bin\R.exe CMD INSTALL scTGIF StartedAt: 2025-02-20 16:25:24 -0500 (Thu, 20 Feb 2025) EndedAt: 2025-02-20 16:26:23 -0500 (Thu, 20 Feb 2025) EllapsedTime: 58.6 seconds RetCode: 0 Status: OK